BEGIN:VCALENDAR
PRODID:-//eluceo/ical//2.0/EN
VERSION:2.0
CALSCALE:GREGORIAN
BEGIN:VEVENT
UID:1d16194ffa7d5af7297979cbf80ced1e
DTSTAMP:20260422T192257Z
SUMMARY:Beth Tzedec Congregation 60th Anniversary Gala Dinner
DESCRIPTION:UJA Federation of Greater Toronto\nJewish Toronto Calendar\nhtt
 ps://jewishtoronto.com/calendar/beth-tzedec-congregation-60th-anniversary-
 gala-dinner\n\nBeth Tzedec Congregation 60th Anniversary Gala Dinner
DTSTART;TZID=America/Toronto:20151101T180000
DTEND;TZID=America/Toronto:20151101T213000
END:VEVENT
END:VCALENDAR
