BEGIN:VCALENDAR
PRODID:-//eluceo/ical//2.0/EN
VERSION:2.0
CALSCALE:GREGORIAN
BEGIN:VEVENT
UID:7239d76483e47a03c4261472a8de1f86
DTSTAMP:20260423T003419Z
SUMMARY:Beth Tzedec Book and Film Club With Cathy Tile
DESCRIPTION:UJA Federation of Greater Toronto\nJewish Toronto Calendar\nhtt
 ps://jewishtoronto.com/calendar/beth-tzedec-book-and-film-club-with-cathy-
 tile\n\nReviewer Cathy Tile discusses Elliot Perman's book\, "The Street S
 weeper." This wonderful tale tells how individual people matter in history
  and how unexpected meetings can change lives. The books explores our capa
 city for memory\, heroism\, racism and unexpected kindness. Co -sponsored 
 by Hazelton Place retirement Residence.
DTSTART;TZID=America/Toronto:20140428T133000
DTEND;TZID=America/Toronto:20140428T160000
END:VEVENT
END:VCALENDAR
