BEGIN:VCALENDAR
PRODID:-//eluceo/ical//2.0/EN
VERSION:2.0
CALSCALE:GREGORIAN
BEGIN:VEVENT
UID:13a79f1ed600b7637ab1896ff58a0cdd
DTSTAMP:20260421T113739Z
SUMMARY:Beth Tzedec Book & Film Club: Phoenix (2014) by Christian Petzold
DESCRIPTION:UJA Federation of Greater Toronto\nJewish Toronto Calendar\nhtt
 ps://jewishtoronto.com/calendar/beth-tzedec-book--film-club-phoenix-2014-b
 y-christian-petzold-1760307421\n\nAdam Nayman reviews the 2014 film Phoeni
 x\, directed by Christian Petzold. The review will begin at 1:30 p.m. and 
 is preceded by lunch at 12:45 p.m. This program will also be available to 
 join over Zoom.\n\nPhoenix is set in Germany in the aftermath of World War
  II\, where Nelly\, a Jewish woman who managed to survive Auschwitz concen
 tration camp\, decides to go back to her husband Johnny in Berlin. She has
  had to have her face reconstructed owing to a bullet wound\, and her husb
 and does not...
DTSTART;TZID=America/Toronto:20251023T123000
DTEND;TZID=America/Toronto:20251023T153000
END:VEVENT
END:VCALENDAR
