BEGIN:VCALENDAR
PRODID:-//eluceo/ical//2.0/EN
VERSION:2.0
CALSCALE:GREGORIAN
BEGIN:VEVENT
UID:9a6619c3efb1f6db1bceba696854e2c9
DTSTAMP:20260422T205016Z
SUMMARY:Beth Tzedec Book & Film Club
DESCRIPTION:UJA Federation of Greater Toronto\nJewish Toronto Calendar\nhtt
 ps://jewishtoronto.com/calendar/beth-tzedec-book--film-club-1553550910\n\n
 After viewing the movie Call Me By Your Name\, Dr. Gillian Helfield critiq
 ues the film.\nA look at the complications of forbidden love through the s
 tory of a precocious Jewish teenager's in the sexual awakening in the 1980
 's
DTSTART;TZID=America/Toronto:20190501T103000
DTEND;TZID=America/Toronto:20190501T150000
END:VEVENT
END:VCALENDAR
