BEGIN:VCALENDAR
PRODID:-//eluceo/ical//2.0/EN
VERSION:2.0
CALSCALE:GREGORIAN
BEGIN:VEVENT
UID:b030c010afa059b364d749d7a972c94c
DTSTAMP:20260422T190123Z
SUMMARY:Beth Tzedec Book & Film Club
DESCRIPTION:UJA Federation of Greater Toronto\nJewish Toronto Calendar\nhtt
 ps://jewishtoronto.com/calendar/beth-tzedec-book--film-club-1455200148\n\n
 Monday\, April 4 Beth Tzedec Book & Film Club will review Norwegian by Nig
 ht by Derek Miller. Reviewer -Cynthia Good. Lunch 1:00pm lecture 1:30 pm\,
  $ 25\, RSVP requested 416-781-3511.
DTSTART;TZID=America/Toronto:20160404T130000
DTEND;TZID=America/Toronto:20160404T160000
END:VEVENT
END:VCALENDAR
