BEGIN:VCALENDAR
PRODID:-//eluceo/ical//2.0/EN
VERSION:2.0
CALSCALE:GREGORIAN
BEGIN:VEVENT
UID:01c3ebe0bf62aa77865f2ee70c317ace
DTSTAMP:20260422T053717Z
SUMMARY:Beth Tzedec Book & Film : The Far Side of the Sky
DESCRIPTION:UJA Federation of Greater Toronto\nJewish Toronto Calendar\nhtt
 ps://jewishtoronto.com/calendar/beth-tzedec-book--film--the-far-side-of-th
 e-sky-1502315124\n\nLunch 1:00 pm Review 1:30 pm
DTSTART;TZID=America/Toronto:20171106T130000
DTEND;TZID=America/Toronto:20171106T150000
END:VEVENT
END:VCALENDAR
