BEGIN:VCALENDAR
PRODID:-//eluceo/ical//2.0/EN
VERSION:2.0
CALSCALE:GREGORIAN
BEGIN:VEVENT
UID:bf3fe0ab55354ffe69ac6f39f8792681
DTSTAMP:20260424T010543Z
SUMMARY:Beth Tikvah Tuesdays With Larry Films: STORIES WE TELL
DESCRIPTION:UJA Federation of Greater Toronto\nJewish Toronto Calendar\nhtt
 ps://jewishtoronto.com/calendar/beth-tikvah-tuesdays-with-larry-films-stor
 ies-we-tell\n\nSTORIES WE TELL. The story of Canadian actress/director Sar
 ah Polley and her voyage to discover the details of her family and to find
  her biological father. She does find him and he turns out to be Jewish. F
 ilm was awarded the prize for best Canadian film by many organizations.
DTSTART;TZID=America/Toronto:20140304T140000
DTEND;TZID=America/Toronto:20140304T170000
END:VEVENT
END:VCALENDAR
