BEGIN:VCALENDAR
PRODID:-//eluceo/ical//2.0/EN
VERSION:2.0
CALSCALE:GREGORIAN
BEGIN:VEVENT
UID:3e21c38bfccc732a8f056b3f7aedcfe8
DTSTAMP:20260424T045414Z
SUMMARY:Beth Tikvah Tuesdays With Larry Films: FILL THE VOID
DESCRIPTION:UJA Federation of Greater Toronto\nJewish Toronto Calendar\nhtt
 ps://jewishtoronto.com/calendar/beth-tikvah-tuesdays-with-larry-films-fill
 -the-void\n\nFILL THE VOID (Israel). Hebrew with English Subtitles. Shira\
 , the youngest daughter of the family is about to be married off to a youn
 g man of the same age. On Purim\, her older sister dies in childbirth\, le
 aving the husband to care for the child. When the girls' mother finds out 
 that the widower may leave the country with her only grandchild\, she prop
 oses a match between Shira and the widower\, leaving Shira to choose betwe
 en her heart's wish and her family's wish to keep the child with them.
DTSTART;TZID=America/Toronto:20140311T140000
DTEND;TZID=America/Toronto:20140311T170000
END:VEVENT
END:VCALENDAR
