BEGIN:VCALENDAR
PRODID:-//eluceo/ical//2.0/EN
VERSION:2.0
CALSCALE:GREGORIAN
BEGIN:VEVENT
UID:b66993a7d7abce3b34377a7882495bc8
DTSTAMP:20260423T155931Z
SUMMARY:Beth Tikvah Tots Hanukkah for Kids
DESCRIPTION:UJA Federation of Greater Toronto\nJewish Toronto Calendar\nhtt
 ps://jewishtoronto.com/calendar/beth-tikvah-tots-hanukkah-for-kids-1543416
 903\n\nJoin Rabbi Louis\, Sigal\, and Kati Szabo Kovari for storytime\, co
 okie decorating\, latkes\, and much more!Free to attend. Please bring a do
 nation for the Chai Lifeline Toy Drive. Thank you!Pre-registration require
 d. Visit the BT website or call 416-221-3433. For more info: sigal@bethtik
 vahtoronto.org
DTSTART;TZID=America/Toronto:20181209T100000
DTEND;TZID=America/Toronto:20181209T110000
END:VEVENT
END:VCALENDAR
