BEGIN:VCALENDAR
PRODID:-//eluceo/ical//2.0/EN
VERSION:2.0
CALSCALE:GREGORIAN
BEGIN:VEVENT
UID:fc0ddde61132f99c5d31c79da7cb8d87
DTSTAMP:20260424T051252Z
SUMMARY:Beth Tikvah Synagogue Ritual Learning Centre
DESCRIPTION:UJA Federation of Greater Toronto\nJewish Toronto Calendar\nhtt
 ps://jewishtoronto.com/calendar/beth-tikvah-synagogue-ritual-learning-cent
 re-1486670902\n\nCome join us for learning in a modern\, friendly Yeshiva 
 style Learning Centre and let us help you improve your Jewish Ritual skill
 s. Sessions led by Rabbi Jarrod Grover\, Hazzan Tibor Kovari\, Irv Kirshen
 blat and others. This program is suitable for all.\n\nSpring sessions will
  be held on Tuesday nights from 7:30-9:00 pm on the following dates:\nMarc
 h 7\, 14\, 21\, 28\nApril 4\, 25\nMay 9\, 16\nJune 6\, 13\, 20\, 27
DTSTART;TZID=America/Toronto:20170307T193000
DTEND;TZID=America/Toronto:20170307T210000
END:VEVENT
END:VCALENDAR
