BEGIN:VCALENDAR
PRODID:-//eluceo/ical//2.0/EN
VERSION:2.0
CALSCALE:GREGORIAN
BEGIN:VEVENT
UID:8d858317a58510c9887a8a5b5aafbcb4
DTSTAMP:20260420T004626Z
SUMMARY:Beth Tikvah Synagogue present Lunch & Learn Series - Karen Liberman
DESCRIPTION:UJA Federation of Greater Toronto\nJewish Toronto Calendar\nhtt
 ps://jewishtoronto.com/calendar/beth-tikvah-synagogue-present-lunch-learn-
 series-karen-liberman\n\n4th Lunch and Learn Session\n\nMay 5 Karen Liberm
 an Retired Executive Director of the Mood Disorders Association of Ontario
  and currently travelling North America as a workplace mental health advis
 or\, Karen brings vast professional and personal experience.  Currently h
 olds positions in the Mental Health Commission of Canada.  Recognized and
  awarded by many (Royal Bank of Canada\, Ontario Psychological Association
 \, CAMH etc.)\, Karen will talk about mental illness-the torment and despa
 ir\, and ...
DTSTART;TZID=America/Toronto:20150505T121500
DTEND;TZID=America/Toronto:20150505T140000
END:VEVENT
END:VCALENDAR
