BEGIN:VCALENDAR
PRODID:-//eluceo/ical//2.0/EN
VERSION:2.0
CALSCALE:GREGORIAN
BEGIN:VEVENT
UID:89c3959eab5fae29dd18037916df4e68
DTSTAMP:20260424T205653Z
SUMMARY:Beth Tikvah Synagogue present Lunch & Learn Series - Anna Shternshi
 s
DESCRIPTION:UJA Federation of Greater Toronto\nJewish Toronto Calendar\nhtt
 ps://jewishtoronto.com/calendar/beth-tikvah-synagogue-present-lunch-learn-
 series-anna-shternshis\n\n1st Lunch and Learn Session\n\nApril 14 Anna Sht
 ernshis Al and Malka Green Associate Professor of Yiddish Studies at the U
 niversity of Toronto.  Author of “Soviet and Kosher Jewish Life in the 
 Soviet Union” and over 20 articles on Soviet Jewish popular culture\, An
 na will talk about:\nJewish Folklore/Soviet Jewish Culture        \n
 \n2 of 8 Lunch and Learn Session - April 21 Steve Paikin Anchor of TVO's "
 The Agenda with Steve Paikin" since 2006\, author\, documentary producer\,
  election...
DTSTART;TZID=America/Toronto:20150414T121500
DTEND;TZID=America/Toronto:20150414T140000
END:VEVENT
END:VCALENDAR
