BEGIN:VCALENDAR
PRODID:-//eluceo/ical//2.0/EN
VERSION:2.0
CALSCALE:GREGORIAN
BEGIN:VEVENT
UID:5ba585e97ea5c1310af17dc02c9b4d08
DTSTAMP:20260422T030713Z
SUMMARY:Beth Tikvah Synagogue present Lunch & Learn Series- Naomi Parness
DESCRIPTION:UJA Federation of Greater Toronto\nJewish Toronto Calendar\nhtt
 ps://jewishtoronto.com/calendar/beth-tikvah-synagogue-present-lunch-learn-
 series--naomi-parness\n\n5th Lunch and Learn Session\n\nMay 12 Naomi Parne
 ss Well known and award-winning CTV News Toronto reporter with a special i
 nterest in education stories\, Naomi has also covered areas such governmen
 t elections\, the G20 Summit\, etc.  Naomi will talk about growing up as 
 the granddaughter of Holocaust survivors\, influences on her life and her 
 path to becoming a television reporter.  Granddaughter of Holocaust Survi
 vors    \n\nThis series has been generously sponsored by Helen Stollar\
 n8-pack:...
DTSTART;TZID=America/Toronto:20150512T121500
DTEND;TZID=America/Toronto:20150512T140000
END:VEVENT
END:VCALENDAR
