BEGIN:VCALENDAR
PRODID:-//eluceo/ical//2.0/EN
VERSION:2.0
CALSCALE:GREGORIAN
BEGIN:VEVENT
UID:ec12400362840f9e45b1175df421a022
DTSTAMP:20260424T094142Z
SUMMARY:Beth Tikvah Synagogue - Hanukkah Who Dunnit?
DESCRIPTION:UJA Federation of Greater Toronto\nJewish Toronto Calendar\nhtt
 ps://jewishtoronto.com/calendar/beth-tikvah-synagogue-hanukkah-who-dunnit\
 n\nHanukkah Who Dunnit?\n\nSynagogue-Wide Murder Mystery Dinner\n\nPlace:
     Beth Tikvah Synagogue\n\n               3080 Bayview 
 Avenue\n\nDate:     Sunday December 6th\, 2015\n\nTime:     5:30 p
 m – 8:30 pm\n\nMembers:\n\nAdults - $25\n\nKids - $20\n\nNon-Members\n\n
 Adults - $30\n\nKids - $25\n\nSigal 416.221.2.3433\n\n 
DTSTART;TZID=America/Toronto:20151206T173000
DTEND;TZID=America/Toronto:20151206T203000
END:VEVENT
END:VCALENDAR
