BEGIN:VCALENDAR
PRODID:-//eluceo/ical//2.0/EN
VERSION:2.0
CALSCALE:GREGORIAN
BEGIN:VEVENT
UID:a2fd3bb479f8cf0320e97ac34b1779cb
DTSTAMP:20260422T041350Z
SUMMARY:Beth Tikvah presents Passport to Canada – Shabbat Shira
DESCRIPTION:UJA Federation of Greater Toronto\nJewish Toronto Calendar\nhtt
 ps://jewishtoronto.com/calendar/beth-tikvah-presents-passport-to-canada--s
 habbat-shira-1545237362\n\nPassport to Canada – Shabbat Shira\nSaturday 
 January 19\, 2019 at 7:00 PM\nWe’re featuring a cast of very talented mu
 sicians who have\nimmigrated to Canada and enriched our musical landscape.
  Join us for Havdalah followed by song and instrumentals with the\ninterna
 tional flare of the presenters.\n$15 with advance reservation through the 
 synagogue office\n416-221-3433 or $20 at the door.
DTSTART;TZID=America/Toronto:20190119T190000
DTEND;TZID=America/Toronto:20190119T210000
END:VEVENT
END:VCALENDAR
