BEGIN:VCALENDAR
PRODID:-//eluceo/ical//2.0/EN
VERSION:2.0
CALSCALE:GREGORIAN
BEGIN:VEVENT
UID:e77593e2bafce9c60e301e0897b03fa6
DTSTAMP:20260420T175146Z
SUMMARY:Beth Tikvah Presents Havdalah and Movie Night for Kids!
DESCRIPTION:UJA Federation of Greater Toronto\nJewish Toronto Calendar\nhtt
 ps://jewishtoronto.com/calendar/beth-tikvah-presents-havdalah-and-movie-ni
 ght-for-kids-1517510931\n\nRuach Shabbat Presents....Havdalah and Movie Ni
 ght For Kids\, Ages 5-10\, and their Families\nSaturday\, February 24 from
  6:30–9:00 pm\n\nJoin Rabbi Louis and Hazzan Tibi for a special Family F
 riendly Havdalah Service with singing\, ice cream and The Lion King. Kids\
 , bring your sleeping bags and blankets!\n\nCost: $5.00/Members and $7.00/
 Non-Members.\n\nRegister by Wednesday\, February 21: 416-221-3433\, gayle@
 bethtikvahtoronto.org\, or on the BT website.
DTSTART;TZID=America/Toronto:20180224T183000
DTEND;TZID=America/Toronto:20180224T210000
END:VEVENT
END:VCALENDAR
