BEGIN:VCALENDAR
PRODID:-//eluceo/ical//2.0/EN
VERSION:2.0
CALSCALE:GREGORIAN
BEGIN:VEVENT
UID:c8d2f6757f5ba9be668c5eb4db1caf4b
DTSTAMP:20260419T210115Z
SUMMARY:Beth Tikvah Bereavement Support Program Begins
DESCRIPTION:UJA Federation of Greater Toronto\nJewish Toronto Calendar\nhtt
 ps://jewishtoronto.com/calendar/beth-tikvah-bereavement-support-program-be
 gins\n\nProgram runs May 4-May 29. Synagogue non-members welcome at a nomi
 nal fee.
DTSTART;TZID=America/Toronto:20140504T100000
DTEND;TZID=America/Toronto:20140504T130000
END:VEVENT
END:VCALENDAR
