BEGIN:VCALENDAR
PRODID:-//eluceo/ical//2.0/EN
VERSION:2.0
CALSCALE:GREGORIAN
BEGIN:VEVENT
UID:b26010e24df918f13b992d8ef18e9143
DTSTAMP:20260420T005203Z
SUMMARY:Beth Tikvah Adult Education Presents a Concise History of Classic J
 azz
DESCRIPTION:UJA Federation of Greater Toronto\nJewish Toronto Calendar\nhtt
 ps://jewishtoronto.com/calendar/beth-tikvah-adult-education-presents-a-con
 cise-history-of-classic-jazz-june-19\n\nWith Mike Daley PH.D. (Music) Lect
 urer\, Composter and Guitarist - Crazy Man\; Bebop and the Beginning of Mo
 dern Jazz.\n\nAdmission Fee: $10 Members\, $12 Non-Members each session Fo
 r Further information\, call 416-221-3433
DTSTART;TZID=America/Toronto:20140619T200000
DTEND;TZID=America/Toronto:20140619T213000
END:VEVENT
END:VCALENDAR
