BEGIN:VCALENDAR
PRODID:-//eluceo/ical//2.0/EN
VERSION:2.0
CALSCALE:GREGORIAN
BEGIN:VEVENT
UID:9e62c82fb6370cc720cc6cccb6174eca
DTSTAMP:20260423T214330Z
SUMMARY:Beth Tikvah - Tuesdays with Larry
DESCRIPTION:UJA Federation of Greater Toronto\nJewish Toronto Calendar\nhtt
 ps://jewishtoronto.com/calendar/beth-tikvah---tuesdays-with-larry-14786177
 33\n\nLABYRINTH OF LIES (Germany) 2015 123 minutes German with English Sub
 titles In the late 1950’s\, a German lawyer attempts to bring Nazi war c
 riminals to trial in a country where at the time few people knew about the
  Holocaust or its ramifications.$5.00 cash at the doorEach film includes a
 n introduction and commentary by: Larry Anklewicz\, Film Consultant and Fo
 rmer Program Director of the Toronto Jewish Film Festival
DTSTART;TZID=America/Toronto:20170131T133000
DTEND;TZID=America/Toronto:20170131T153000
END:VEVENT
END:VCALENDAR
