BEGIN:VCALENDAR
PRODID:-//eluceo/ical//2.0/EN
VERSION:2.0
CALSCALE:GREGORIAN
BEGIN:VEVENT
UID:7965eb29df3ce00918c5aae2ea434e6a
DTSTAMP:20260420T151111Z
SUMMARY:Beth Tikvah - Spring Lunch & Learn
DESCRIPTION:UJA Federation of Greater Toronto\nJewish Toronto Calendar\nhtt
 ps://jewishtoronto.com/calendar/beth-tikvah---spring-lunch--learn-14858853
 23\n\nLeonard Wise: Artist\, Charles Pachter\nRetired lawyer and now write
 r\, Leonard Wise will talk about his soon-to-be published 8th book about t
 he Canadian artist\, Charles Pachter. Multi-awarded Pachter\, (painter\, p
 rintmaker\, sculptor\, designer)\, is well recognized for his works such a
 s Queen on Moose\, The Painted Flag\, and Hockey Knights in Canada.\n\n8
 –pack:\nEarly Bird (until Feb. 28 only)\nBeth Tikvah Member – $99\nCom
 munity Member – $119\n\nRegular Price\, starting March 1\nBeth Tikvah ..
 .
DTSTART;TZID=America/Toronto:20170502T121000
DTEND;TZID=America/Toronto:20170502T141000
END:VEVENT
END:VCALENDAR
