BEGIN:VCALENDAR
PRODID:-//eluceo/ical//2.0/EN
VERSION:2.0
CALSCALE:GREGORIAN
BEGIN:VEVENT
UID:513d33ae9f3dbb0cc895192e6b90109d
DTSTAMP:20260421T050553Z
SUMMARY:Beth Tikvah - Pre-Passover Shabbat Dinner
DESCRIPTION:UJA Federation of Greater Toronto\nJewish Toronto Calendar\nhtt
 ps://jewishtoronto.com/calendar/beth-tikvah---pre-passover-shabbat-dinner-
 1488901068\n\nA Return of Our Pre-Passover Shabbat DinnerFriday\, April 7 
 Kabbalat Shabbat Services at 6:00 pm Dinner at 7:00 pmMembers: $35.00 Adul
 ts\; $20.00 Kids Non-Members: $40.00 Adults\; $25.00 Kids Special Family R
 ate (2 Adults\; 2 Kids): $100.00 Kids 2 and Under: FREEVisit the BT Websit
 e to register online or contact the Synagogue office at 416-221-3433.RSVP 
 by Wednesday\, March 29 at 5:00 pm. Our Chinese-inspired dinner is catered
  by Mitzuyan Kosher Catering.
DTSTART;TZID=America/Toronto:20170407T180000
DTEND;TZID=America/Toronto:20170407T210000
END:VEVENT
END:VCALENDAR
