BEGIN:VCALENDAR
PRODID:-//eluceo/ical//2.0/EN
VERSION:2.0
CALSCALE:GREGORIAN
BEGIN:VEVENT
UID:78c86147230397622ea6515b5a9d82b4
DTSTAMP:20260421T185926Z
SUMMARY:Beth Tikvah - Holocaust Education Week Event
DESCRIPTION:UJA Federation of Greater Toronto\nJewish Toronto Calendar\nhtt
 ps://jewishtoronto.com/calendar/beth-tikvah---holocaust-education-week-eve
 nt-1477597825\n\n"Nobody was Interested\, Nobody Asked"\n \nMax Beer’s 
 2015 film explores the immigration history of Holocaust survivors who came
  to Montreal\, their new lives here\, and their reception by the local com
 munity. Screening followed by a discussion with the director\, Max Beer.\n
 \nOpen to the community.
DTSTART;TZID=America/Toronto:20161106T193000
DTEND;TZID=America/Toronto:20161106T213000
END:VEVENT
END:VCALENDAR
