BEGIN:VCALENDAR
PRODID:-//eluceo/ical//2.0/EN
VERSION:2.0
CALSCALE:GREGORIAN
BEGIN:VEVENT
UID:e11cc3cff368c27891921e314f5693b9
DTSTAMP:20260421T142118Z
SUMMARY:Beth Sholom's Annual Brotherhood Dinner & Draw
DESCRIPTION:UJA Federation of Greater Toronto\nJewish Toronto Calendar\nhtt
 ps://jewishtoronto.com/calendar/beth-sholoms-annual-brotherhood-dinner--dr
 aw-1626809110\n\nOur Brotherhood Dinner & Draw is BACK! This year we’re 
 giving away over $15\,000 in CASH and raffle prizes! Your ticket includes 
 one entry into the draw\, cocktails\, dinner and a performance by our gues
 t comedian\, the hilarious Steven Scott\, who will be here in-person all t
 he way from Chicago. Tax receipts will be issued for applicable amounts.Co
 ntact Jenn Ferman at jenn@bethsholom.net for more details and to purchase 
 tickets for this event.
DTSTART;TZID=America/Toronto:20211118T180000
DTEND;TZID=America/Toronto:20211118T210000
END:VEVENT
END:VCALENDAR
