BEGIN:VCALENDAR
PRODID:-//eluceo/ical//2.0/EN
VERSION:2.0
CALSCALE:GREGORIAN
BEGIN:VEVENT
UID:a325457dfa7866d8bc8df01e16df5344
DTSTAMP:20260419T205342Z
SUMMARY:Beth Sholom Scholar In Residence Weekend with Imam Abdullah Antepli
DESCRIPTION:UJA Federation of Greater Toronto\nJewish Toronto Calendar\nhtt
 ps://jewishtoronto.com/calendar/beth-sholom-scholar-in-residence-weekend-w
 ith-imam-abdullah-antepli-1539802389\n\nScholar In Residence: Imam Abdulla
 h Antepli\nImam Antepli will be joining Rabbi Flanzraich in a series of co
 nversations throughout Shabbat\, on October 26 & 27\, 2018.\n\nPlease regi
 ster with Fargana at fargana@bethsholom.net or 647.873.1235 for any of the
  upcoming programs below.\n\nShabbat Dinner & Dialogue\nFriday October 26\
 , 2018\nServices at 6:00 pm\, with dinner following\n\nImam Antepli: What 
 I Want You To Know About Islam\nComplimentary\nAll are welcome\n\nShabbat 
 Morning Conversation\nS...
DTSTART;TZID=America/Toronto:20181026T060000
DTEND;TZID=America/Toronto:20181027T013000
END:VEVENT
END:VCALENDAR
