BEGIN:VCALENDAR
PRODID:-//eluceo/ical//2.0/EN
VERSION:2.0
CALSCALE:GREGORIAN
BEGIN:VEVENT
UID:0330a55471d2ac619e9533404b4b02c3
DTSTAMP:20260420T235629Z
SUMMARY:Beth Sholom Presents Kol Isha...The Female Voice
DESCRIPTION:UJA Federation of Greater Toronto\nJewish Toronto Calendar\nhtt
 ps://jewishtoronto.com/calendar/beth-sholom-presents-kol-ishathe-female-vo
 ice\n\nHosted by Marla Shapiro and featuring Amy Sky and many more! This g
 ala evening will showcase lead female vocalists to increase breast cancer 
 awareness and conquer adversity.
DTSTART;TZID=America/Toronto:20140327T193000
DTEND;TZID=America/Toronto:20140327T213000
END:VEVENT
END:VCALENDAR
