BEGIN:VCALENDAR
PRODID:-//eluceo/ical//2.0/EN
VERSION:2.0
CALSCALE:GREGORIAN
BEGIN:VEVENT
UID:26e0fd50798482ea97b7a8547678d0f8
DTSTAMP:20260422T140339Z
SUMMARY:Beth Sholom-JNF Mission to Israel
DESCRIPTION:UJA Federation of Greater Toronto\nJewish Toronto Calendar\nhtt
 ps://jewishtoronto.com/calendar/beth-sholom-jnf-mission-to-israel-15519968
 59\n\nBeth Sholom Synagogue and the Jewish National Fund have teamed up to
  bring a group of synagogue and community members to Israel for an Israel 
 experience which will include learning\, people to people interactions and
  of course\, fun!
DTSTART;TZID=America/Toronto:20191024T000000
DTEND;TZID=America/Toronto:20191101T100000
END:VEVENT
END:VCALENDAR
