BEGIN:VCALENDAR
PRODID:-//eluceo/ical//2.0/EN
VERSION:2.0
CALSCALE:GREGORIAN
BEGIN:VEVENT
UID:cd5adfedb0005daddc13706efbbf1210
DTSTAMP:20260425T201702Z
SUMMARY:Beth Emeth trip to the ROM
DESCRIPTION:UJA Federation of Greater Toronto\nJewish Toronto Calendar\nhtt
 ps://jewishtoronto.com/calendar/beth-emeth-trip-to-the-rom-1738948905\n\nJ
 oin Beth Emeth as we take the bus to the ROM to see the Auschwitz exhibit\
 , on the 80th anniversary of the camp's liberation.\n\nMembers: $18 Non-me
 mbers $25\n\nRegister here: https://www.beby.org/event/rom
DTSTART;TZID=America/Toronto:20250302T093000
DTEND;TZID=America/Toronto:20250302T134500
END:VEVENT
END:VCALENDAR
