BEGIN:VCALENDAR
PRODID:-//eluceo/ical//2.0/EN
VERSION:2.0
CALSCALE:GREGORIAN
BEGIN:VEVENT
UID:75ea27d070535e9fd8f96aacac9e2239
DTSTAMP:20260421T234205Z
SUMMARY:Beth Emeth presents: \;Young Family Shabbat
DESCRIPTION:UJA Federation of Greater Toronto\nJewish Toronto Calendar\nhtt
 ps://jewishtoronto.com/calendar/beth-emeth-presents-young-family-shabbat-1
 674054414\n\nThe young family shabbat will take place in person starting a
 t 10:30am followed by a hot lunch. Led by Guy Mannheim.
DTSTART;TZID=America/Toronto:20230121T103000
DTEND;TZID=America/Toronto:20230121T120000
END:VEVENT
END:VCALENDAR
