BEGIN:VCALENDAR
PRODID:-//eluceo/ical//2.0/EN
VERSION:2.0
CALSCALE:GREGORIAN
BEGIN:VEVENT
UID:888e9c0744d7ded7c868ea2b68a3a905
DTSTAMP:20260421T133727Z
SUMMARY:Beth Emeth presents: "Young Family Program L’Dor V’dor
DESCRIPTION:UJA Federation of Greater Toronto\nJewish Toronto Calendar\nhtt
 ps://jewishtoronto.com/calendar/beth-emeth-presents-young-family-program-l
 dor-vdor-1737042235\n\nA special Tu B’Shvat celebration for grandparents
  and grandkids.\n\nWith arts & crafts\, planting and a light lunch. All we
 lcome! No charge.\n\nRegister here: beby.org/event/generation
DTSTART;TZID=America/Toronto:20250209T121500
DTEND;TZID=America/Toronto:20250209T134500
END:VEVENT
END:VCALENDAR
