BEGIN:VCALENDAR
PRODID:-//eluceo/ical//2.0/EN
VERSION:2.0
CALSCALE:GREGORIAN
BEGIN:VEVENT
UID:fa47922fba40014add31568c6e9b41f4
DTSTAMP:20260422T094004Z
SUMMARY:Beth Emeth presents: World Water Day
DESCRIPTION:UJA Federation of Greater Toronto\nJewish Toronto Calendar\nhtt
 ps://jewishtoronto.com/calendar/beth-emeth-presents-world-water-day-164702
 3955\n\nThe Greening Committee and NextGen presents: Celebrate Conserving 
 & Preserving Water on World Water Day\n\nWith special guest speakers:\; In
 digenous Leader Kim Wheatley and nurse Rob Samulack.\n\nRegister Here: htt
 ps://www.beby.org/event/march27
DTSTART;TZID=America/Toronto:20220327T193000
DTEND;TZID=America/Toronto:20220327T210000
END:VEVENT
END:VCALENDAR
