BEGIN:VCALENDAR
PRODID:-//eluceo/ical//2.0/EN
VERSION:2.0
CALSCALE:GREGORIAN
BEGIN:VEVENT
UID:c12fc05858a36cc661c07591d4a39598
DTSTAMP:20260420T145529Z
SUMMARY:Beth Emeth Presents: Ve’ahavta Event
DESCRIPTION:UJA Federation of Greater Toronto\nJewish Toronto Calendar\nhtt
 ps://jewishtoronto.com/calendar/beth-emeth-presents-veahavta-event-1770999
 878\n\nJoin the Beth Emeth team and walk in support of Ve'ahavta to suppor
 t local Toronto charities.\n\nRegister here: https://www.beby.org/event/be
 themethteamwalk
DTSTART;TZID=America/Toronto:20260228T191500
DTEND;TZID=America/Toronto:20260228T211500
END:VEVENT
END:VCALENDAR
