BEGIN:VCALENDAR
PRODID:-//eluceo/ical//2.0/EN
VERSION:2.0
CALSCALE:GREGORIAN
BEGIN:VEVENT
UID:07844cbe4befc752eb0605cab9790dee
DTSTAMP:20260420T021100Z
SUMMARY:Beth Emeth presents: Reel & Spiel
DESCRIPTION:UJA Federation of Greater Toronto\nJewish Toronto Calendar\nhtt
 ps://jewishtoronto.com/calendar/beth-emeth-presents-reel--spiel-1642697298
 \n\nJoin Beth Emeth as we watch the film "Being the Ricardos\," followed b
 y author and BEBY member Bruria Cooperman providing a review of the film.\
 n\nZOOM\n\nRegister Here: https://www.beby.org/event/lucy
DTSTART;TZID=America/Toronto:20220209T190000
DTEND;TZID=America/Toronto:20220209T213000
END:VEVENT
END:VCALENDAR
