BEGIN:VCALENDAR
PRODID:-//eluceo/ical//2.0/EN
VERSION:2.0
CALSCALE:GREGORIAN
BEGIN:VEVENT
UID:307e64354966f5d649b44609c00c25c9
DTSTAMP:20260424T123841Z
SUMMARY:Beth Emeth Presents: Mitzvah Day
DESCRIPTION:UJA Federation of Greater Toronto\nJewish Toronto Calendar\nhtt
 ps://jewishtoronto.com/calendar/beth-emeth-presents-mitzvah-day-1770999741
 \n\nJoin us as we as we perform Purim mitzvot by packing food and creating
  wish cards for those in need.\n\nRegister here: https://www.beby.org/even
 t/mitzvahday
DTSTART;TZID=America/Toronto:20260222T100000
DTEND;TZID=America/Toronto:20260222T120000
END:VEVENT
END:VCALENDAR
