BEGIN:VCALENDAR
PRODID:-//eluceo/ical//2.0/EN
VERSION:2.0
CALSCALE:GREGORIAN
BEGIN:VEVENT
UID:db344315d12aa0ad00dc28a8404db2f4
DTSTAMP:20260419T155317Z
SUMMARY:Beth Emeth presents: Lunch & Literature with Cynthia Goode
DESCRIPTION:UJA Federation of Greater Toronto\nJewish Toronto Calendar\nhtt
 ps://jewishtoronto.com/calendar/beth-emeth-presents-lunch--literature-with
 -cynthia-goode-1697040972\n\nBeth Emeth presents: Lunch & LiteratureCynthi
 a Goode reviews the book "House on Endless Waters" written by Emuna Elon. 
 Served with a hot lunch.Register here: beby.org/event/litnov9
DTSTART;TZID=America/Toronto:20231109T130000
DTEND;TZID=America/Toronto:20231109T150000
END:VEVENT
END:VCALENDAR
