BEGIN:VCALENDAR
PRODID:-//eluceo/ical//2.0/EN
VERSION:2.0
CALSCALE:GREGORIAN
BEGIN:VEVENT
UID:a096b90e781b4e9c84cc53bc3bde7147
DTSTAMP:20260422T072721Z
SUMMARY:Beth Emeth presents: Lunch & Literature
DESCRIPTION:UJA Federation of Greater Toronto\nJewish Toronto Calendar\nhtt
 ps://jewishtoronto.com/calendar/beth-emeth-presents-lunch--literature-1674
 055772\n\nAuthor Phyllis Taylor discusses her book "The Prison Lady" IN PE
 RSON  With a hot lunch.
DTSTART;TZID=America/Toronto:20230126T130000
DTEND;TZID=America/Toronto:20230126T150000
END:VEVENT
END:VCALENDAR
