BEGIN:VCALENDAR
PRODID:-//eluceo/ical//2.0/EN
VERSION:2.0
CALSCALE:GREGORIAN
BEGIN:VEVENT
UID:192d4b453ec748ac5243838c4419caad
DTSTAMP:20260422T050729Z
SUMMARY:Beth Emeth Presents: Jewish: A National or Religious Identity?
DESCRIPTION:UJA Federation of Greater Toronto\nJewish Toronto Calendar\nhtt
 ps://jewishtoronto.com/calendar/beth-emeth-presents-jewish-a-national-or-r
 eligious-identity-1635349011\n\nBeth Emeth's Continuing Education Committe
 e Presents: Jewish: A National or Religious Identity?Journey through thous
 ands of years of Jewish history in search of the core of Jewish identity.R
 egister Here: https://www.beby.org/event/dec14
DTSTART;TZID=America/Toronto:20211214T140000
DTEND;TZID=America/Toronto:20211214T153000
END:VEVENT
END:VCALENDAR
