BEGIN:VCALENDAR
PRODID:-//eluceo/ical//2.0/EN
VERSION:2.0
CALSCALE:GREGORIAN
BEGIN:VEVENT
UID:c85b7a35c583ac716a2343c9899ede8b
DTSTAMP:20260422T083116Z
SUMMARY:Beth Emeth presents: Israel Picnic
DESCRIPTION:UJA Federation of Greater Toronto\nJewish Toronto Calendar\nhtt
 ps://jewishtoronto.com/calendar/beth-emeth-presents-israel-picnic-17163847
 28\n\nBeth Emeth presents: Israel Picnic\n\nJoin us as we celebrate Israel
  with a casual Israeli falafel supper\, Israeli dancing\, a bubble show\, 
 ice cream truck and a an open air Kabbalat Shabbat service starting at 6:4
 5pm.\n\nRegister here: https://www.beby.org/event/picnic
DTSTART;TZID=America/Toronto:20240607T170000
DTEND;TZID=America/Toronto:20240607T184500
END:VEVENT
END:VCALENDAR
