BEGIN:VCALENDAR
PRODID:-//eluceo/ical//2.0/EN
VERSION:2.0
CALSCALE:GREGORIAN
BEGIN:VEVENT
UID:3dd8c1d66bd7e85aa7b8f5bf5185953f
DTSTAMP:20260422T104823Z
SUMMARY:Beth Emeth presents: Folk Singers
DESCRIPTION:UJA Federation of Greater Toronto\nJewish Toronto Calendar\nhtt
 ps://jewishtoronto.com/calendar/beth-emeth-presents-folk-singers-173704244
 4\n\nIntroducing folk singers from around the world and their most famous 
 songs.\n\nPresented by Norman Zinman. With a light breakfast.\n\nMembers $
 5\, non-members $10.\n\nRegister here: beby.org/event/folk
DTSTART;TZID=America/Toronto:20250216T100000
DTEND;TZID=America/Toronto:20250216T233000
END:VEVENT
END:VCALENDAR
