BEGIN:VCALENDAR
PRODID:-//eluceo/ical//2.0/EN
VERSION:2.0
CALSCALE:GREGORIAN
BEGIN:VEVENT
UID:8af19584e3fd21964233cb372dae11d5
DTSTAMP:20260421T113547Z
SUMMARY:Beth Emeth presents: Folk Singers & their Contributions to World Pe
 ace
DESCRIPTION:UJA Federation of Greater Toronto\nJewish Toronto Calendar\nhtt
 ps://jewishtoronto.com/calendar/beth-emeth-presents-folk-singers--their-co
 ntributions-to-world-peace-1712242608\n\nBeth Emeth's Continuing Education
  Committee presents: Folks Singers and their Contribution to World Peace. 
 With John Denver\, Joan Biaz and The Kingston Trio.\n\nRegister here: http
 s://www.beby.org/event/singers
DTSTART;TZID=America/Toronto:20240516T193000
DTEND;TZID=America/Toronto:20240516T213000
END:VEVENT
END:VCALENDAR
