BEGIN:VCALENDAR
PRODID:-//eluceo/ical//2.0/EN
VERSION:2.0
CALSCALE:GREGORIAN
BEGIN:VEVENT
UID:1498766852c0153c37ed92624b0ef069
DTSTAMP:20260419T222901Z
SUMMARY:Beth Emeth Presents: Family Megillah Reading event
DESCRIPTION:UJA Federation of Greater Toronto\nJewish Toronto Calendar\nhtt
 ps://jewishtoronto.com/calendar/beth-emeth-presents-family-megillah-readin
 g-event-1771000429\n\nJoin us for a family megillah reading with Guy Mannh
 eim\, hamantaschen decorating\, snacks and fun for all!\n\nRegister here: 
 https://www.beby.org/event/megillah2026
DTSTART;TZID=America/Toronto:20260302T180000
DTEND;TZID=America/Toronto:20260302T193000
END:VEVENT
END:VCALENDAR
