BEGIN:VCALENDAR
PRODID:-//eluceo/ical//2.0/EN
VERSION:2.0
CALSCALE:GREGORIAN
BEGIN:VEVENT
UID:66615ca26e7bb29aefa8f18bea0b7fbe
DTSTAMP:20260421T232138Z
SUMMARY:Beth Emeth presents: Family Challah Bake
DESCRIPTION:UJA Federation of Greater Toronto\nJewish Toronto Calendar\nhtt
 ps://jewishtoronto.com/calendar/beth-emeth-presents-family-challah-bake-17
 12158388\n\nBeth Emeth presents: Family Challah Bake\n\nBring your family 
 and join us for dinner and baking of a key shaped challah!
DTSTART;TZID=America/Toronto:20240502T180000
DTEND;TZID=America/Toronto:20240502T200000
END:VEVENT
END:VCALENDAR
