BEGIN:VCALENDAR
PRODID:-//eluceo/ical//2.0/EN
VERSION:2.0
CALSCALE:GREGORIAN
BEGIN:VEVENT
UID:cff0f422cf2bc1e8f8884841f05230c8
DTSTAMP:20260424T082521Z
SUMMARY:Beth Emeth presents: Earth Day
DESCRIPTION:UJA Federation of Greater Toronto\nJewish Toronto Calendar\nhtt
 ps://jewishtoronto.com/calendar/beth-emeth-presents-earth-day-1647024276\n
 \nThe Greening Committee and NextGen presents: Earth Day: Investing in our
  Planet.\n\nBeginning with the Passover story and relating it to how we li
 ve our lives today.\n\nRegister Here: https://www.beby.org/event/april10
DTSTART;TZID=America/Toronto:20220410T193000
DTEND;TZID=America/Toronto:20220410T210000
END:VEVENT
END:VCALENDAR
