BEGIN:VCALENDAR
PRODID:-//eluceo/ical//2.0/EN
VERSION:2.0
CALSCALE:GREGORIAN
BEGIN:VEVENT
UID:3514554c940165952d2362f028c9d0bb
DTSTAMP:20260422T022857Z
SUMMARY:Beth Emeth presents: Chanukah with Bryna & Tikka
DESCRIPTION:UJA Federation of Greater Toronto\nJewish Toronto Calendar\nhtt
 ps://jewishtoronto.com/calendar/beth-emeth-presents-chanukah-with-bryna--t
 ikka-1637607354\n\nJoin us on Zoom for a Chanukah event of music & crafts 
 with Bryna & Tikka. Pick up your craft kits at the Beth Emeth office Thurs
 day & Friday. Register Here: https://www.beby.org/event/nov28
DTSTART;TZID=America/Toronto:20211128T100000
DTEND;TZID=America/Toronto:20211128T104500
END:VEVENT
END:VCALENDAR
