BEGIN:VCALENDAR
PRODID:-//eluceo/ical//2.0/EN
VERSION:2.0
CALSCALE:GREGORIAN
BEGIN:VEVENT
UID:e38e3b577d6abcee1ef42ac9b42f6301
DTSTAMP:20260422T125556Z
SUMMARY:Beth Emeth presents: Celebrities and their special Jewish connectio
 ns
DESCRIPTION:UJA Federation of Greater Toronto\nJewish Toronto Calendar\nhtt
 ps://jewishtoronto.com/calendar/beth-emeth-presents-celebrities-and-their-
 special-jewish-connections-1634137178\n\nPart 3 - Coming to America with N
 orman Zinman\n\n \n\n 
DTSTART;TZID=America/Toronto:20211113T200000
DTEND;TZID=America/Toronto:20211113T220000
END:VEVENT
END:VCALENDAR
