BEGIN:VCALENDAR
PRODID:-//eluceo/ical//2.0/EN
VERSION:2.0
CALSCALE:GREGORIAN
BEGIN:VEVENT
UID:23405964712b444db7cbbc39a726c5e0
DTSTAMP:20260419T205543Z
SUMMARY:Beth Emeth presents: Celebrating Pesach with Bryna & Tikka
DESCRIPTION:UJA Federation of Greater Toronto\nJewish Toronto Calendar\nhtt
 ps://jewishtoronto.com/calendar/beth-emeth-presents-celebrating-pesach-wit
 h-bryna--tikka-1648669489\n\nCelebrate Pesach with Bryna & Tikka through s
 tories and songs.\n\nRegister Here: https://www.beby.org/event/pesach
DTSTART;TZID=America/Toronto:20220410T153000
DTEND;TZID=America/Toronto:20220410T160000
END:VEVENT
END:VCALENDAR
