BEGIN:VCALENDAR
PRODID:-//eluceo/ical//2.0/EN
VERSION:2.0
CALSCALE:GREGORIAN
BEGIN:VEVENT
UID:1226532af1bd06c27130a2119f4c87f4
DTSTAMP:20260422T135845Z
SUMMARY:Beth Emeth presents: A Night of Planting
DESCRIPTION:UJA Federation of Greater Toronto\nJewish Toronto Calendar\nhtt
 ps://jewishtoronto.com/calendar/beth-emeth-presents-a-night-of-planting-17
 37042552\n\nThe Tikkun Olam Committee brings you a guided step-by-step dem
 o facilitated by a certified PlantNite instructor\, to create your own pla
 nt arrangement! Arrangements will be donated to Senior Living Communities.
  No charge.\n\nRegister here: beby.org/event/plantnight
DTSTART;TZID=America/Toronto:20250224T190000
DTEND;TZID=America/Toronto:20250224T204500
END:VEVENT
END:VCALENDAR
