BEGIN:VCALENDAR
PRODID:-//eluceo/ical//2.0/EN
VERSION:2.0
CALSCALE:GREGORIAN
BEGIN:VEVENT
UID:db6e2ade398a5b34083678dd24a1098c
DTSTAMP:20260425T170258Z
SUMMARY:Beth Emeth presents:  Fraud and Scams against Seniors
DESCRIPTION:UJA Federation of Greater Toronto\nJewish Toronto Calendar\nhtt
 ps://jewishtoronto.com/calendar/beth-emeth-presents--fraud-and-scams-again
 st-seniors-1652903555\n\nBeth Emeth Boomers presents: Fraud and Scams agai
 nst SeniorsJoin us as Sheldon Parker provides strategies and steps to prot
 ect yourself in this digital age on ZoomRegister Here: https://us06web.zoo
 m.us/meeting/register/tZEkce2qrj4qHdInGelJGqkAE8k4inXG_tMp
DTSTART;TZID=America/Toronto:20220623T193000
DTEND;TZID=America/Toronto:20220623T210000
END:VEVENT
END:VCALENDAR
