BEGIN:VCALENDAR
PRODID:-//eluceo/ical//2.0/EN
VERSION:2.0
CALSCALE:GREGORIAN
BEGIN:VEVENT
UID:2da2294e5eb07f9137ff3e4b0d35fa6f
DTSTAMP:20260422T143606Z
SUMMARY:Beth Emeth presents:  Chol Hamoed Pesach with Toronto Jewish Chorus
  2024
DESCRIPTION:UJA Federation of Greater Toronto\nJewish Toronto Calendar\nhtt
 ps://jewishtoronto.com/calendar/beth-emeth-presents--chol-hamoed-pesach-wi
 th-toronto-jewish-chorus-2024-1712158223\n\nBeth Emeth's Music Committee p
 resents: Chol Hamoed Pesach with Toronto Jewish Chorus 2024
DTSTART;TZID=America/Toronto:20240425T193000
DTEND;TZID=America/Toronto:20240425T210000
END:VEVENT
END:VCALENDAR
