BEGIN:VCALENDAR
PRODID:-//eluceo/ical//2.0/EN
VERSION:2.0
CALSCALE:GREGORIAN
BEGIN:VEVENT
UID:f7888dbfbf98162279c0da272946fe81
DTSTAMP:20260420T232005Z
SUMMARY:Beth Emeth Presents:  Books & Bagels
DESCRIPTION:UJA Federation of Greater Toronto\nJewish Toronto Calendar\nhtt
 ps://jewishtoronto.com/calendar/beth-emeth-presents--books--bagels-1772202
 143\n\nJoin us for a light lunch and a discussion with author Martin Bodek
  on his series of books including "The Emjoji Haggadah."\n\nRegister here:
  beby.org/event/bookmarch8
DTSTART;TZID=America/Toronto:20260308T120000
DTEND;TZID=America/Toronto:20260308T140000
END:VEVENT
END:VCALENDAR
