BEGIN:VCALENDAR
PRODID:-//eluceo/ical//2.0/EN
VERSION:2.0
CALSCALE:GREGORIAN
BEGIN:VEVENT
UID:5ba552f22da150a75fefa1de0b4a142f
DTSTAMP:20260421T105216Z
SUMMARY:Beth Emeth presents:  Bathurst Manor Exhibition Tour at the UJA
DESCRIPTION:UJA Federation of Greater Toronto\nJewish Toronto Calendar\nhtt
 ps://jewishtoronto.com/calendar/beth-emeth-presents--bathurst-manor-exhibi
 tion-tour-at-the-uja-1697039553\n\nJoin Beth Emeth for a Bathurst Manor Ex
 hibition Tour at the UJA Meet in front of 4588 Bathurst at 7PMRegister her
 e: https://www.beby.org/event/tour
DTSTART;TZID=America/Toronto:20231025T190000
DTEND;TZID=America/Toronto:20231025T203000
END:VEVENT
END:VCALENDAR
